BEGIN:VCALENDAR
PRODID:-//github.com/rianjs/ical.net//NONSGML ical.net 4.0//EN
VERSION:2.0
BEGIN:VTIMEZONE
TZID:Eastern Standard Time
X-LIC-LOCATION:America/New_York
BEGIN:STANDARD
DTSTART:20241103T020000
RRULE:FREQ=YEARLY;BYDAY=1SU;BYMONTH=11
TZNAME:EST
TZOFFSETFROM:-0400
TZOFFSETTO:-0500
END:STANDARD
BEGIN:DAYLIGHT
DTSTART:20250309T020000
RRULE:FREQ=YEARLY;BYDAY=2SU;BYMONTH=3
TZNAME:EDT
TZOFFSETFROM:-0500
TZOFFSETTO:-0400
END:DAYLIGHT
END:VTIMEZONE
BEGIN:VEVENT
DESCRIPTION:Get ServSafe Manager certified with the Connecticut Restaurant
  Association!
DTEND;TZID=Eastern Standard Time:20260622T170000
DTSTAMP:20260425T173142Z
DTSTART;TZID=Eastern Standard Time:20260622T080000
LOCATION:Eli's On Whitney 2392 Whitney Avenue Hamden\, CT 06518-3207 Unite
 d States
ORGANIZER;CN=CRA ServSafe Support;SENT-BY="mailto:servsafe@ctrestaurant.or
 g":
SEQUENCE:0
SUMMARY:CRHA: ServSafe Manager In-Person Class & Exam | Hamden
UID:f7fd780e-7dad-4235-b1d0-4b18c610d552
END:VEVENT
END:VCALENDAR
